Workbook

Sheet RGR Generator
A1: Target Gene | B1: gRNA sequence | C1: RGR Sequence
A2: Tet2 | B2: GAACAAGCTCTACATCCCGT | C2: =Sheet3!B2 -> AACTAGAGAAGACCTTGCCTTGTTCCTGATGAGTCCGTGAGGACGAAACGAGTAAGCTCGTC GAACAAGCTCTACATCCCGTGTTTTAGAGCTAGAAATAGCAAGTTAAAATAAGGCTAGTCCGTTATCAACTTGAAAA AGTGGCACCGAGTCGGTGCTTTT GGCCGGCATGGTCCCAGCCTCCTCGCTGGCGCCGGCTGGGCAACATGCTTCGG CATGGCGAATGGGAC GAGCTGGTCTTCAAACCA
A3: Gal4 (NTC) | B3: GAACGACTAGTTAGGCGTGTA | C3: =Sheet3!B3 -> AACTAGAGAAGACCTTGCCTCGTTCCTGATGAGTCCGTGAGGACGAAACGAGTAAGCTCGTC GAACGACTAGTTAGGCGTGTAGTTTTAGAGCTAGAAATAGCAAGTTAAAATAAGGCTAGTCCGTTATCAACTTGAAAA AGTGGCACCGAGTCGGTGCTTTT GGCCGGCATGGTCCCAGCCTCCTCGCTGGCGCCGGCTGGGCAACATGCTTCGG CATGGCGAATGGGAC GAGCTGGTCTTCAAACCA
A4: PD-1 | B4: GACACACGGCGCAATGACAG | C4: =Sheet3!B4 -> AACTAGAGAAGACCTTGCCTGTGTCCTGATGAGTCCGTGAGGACGAAACGAGTAAGCTCGTC GACACACGGCGCAATGACAG GTTTTAGAGCTAGAAATAGCAAGTTAAAATAAGGCTAGTCCGTTATCAACTTGAAAA AGTGGCACCGAGTCGGTGCTTTT GGCCGGCATGGTCCCAGCCTCCTCGCTGGCGCCGGCTGGGCAACATGCTTCGG CATGGCGAATGGGAC GAGCTGGTCTTCAAACCA
C5: =Sheet3!B5 -> N/A
C6: =Sheet3!B6 -> N/A
C7: =Sheet3!B7 -> N/A
A10: NOTE: | B10: RGRs are designed for BbsI Golden Gate cloning into BV_MSCV plasmids, one RGR per virus. Order RGRs as double stranded DNA blocks.

Sheet Sheet1
E1: Target gene | F1: gRNA sequence | G1: RC of first 6 bases | H1: RGR Sequence to Order
E2: ='RGR Generator'!A2 -> Tet2 | F2: ='RGR Generator'!B2 -> GAACAAGCTCTACATCCCGT | G2: =MID(Sheet2!B2,6,1)&MID(Sheet2!B2,5,1)&MID(Sheet2!B2,4,1)&MID(Sheet2!B2,3,1)&MID(Sheet2!B2,2,1)&MID(Sheet2!B2,1,1) -> TTGTTC | H2: =_xlfn.CONCAT(Sheet2!$H$2,G2,Sheet2!$E$2,'RGR Generator'!B2,Sheet2!$F$2,Sheet2!$G$2,Sheet2!$I$2) -> AACTAGAGAAGACCTTGCCTTGTTCCTGATGAGTCCGTGAGGACGAAACGAGTAAGCTCGTC GAACAAGCTCTACATCCCGTGTTTTAGAGCTAGAAATAGCAAGTTAAAATAAGGCTAGTCCGTTATCAACTTGAAAA AGTGGCACCGAGTCGGTGCTTTT GGCCGGCATGGTCCCAGCCTCCTCGCTGGCGCCGGCTGGGCAACATGCTTCGG CATGGCGAATGGGAC GAGCTGGTCTTCAAACCA
E3: ='RGR Generator'!A3 -> Gal4 (NTC) | F3: ='RGR Generator'!B3 -> GAACGACTAGTTAGGCGTGTA | G3: =MID(Sheet2!B3,6,1)&MID(Sheet2!B3,5,1)&MID(Sheet2!B3,4,1)&MID(Sheet2!B3,3,1)&MID(Sheet2!B3,2,1)&MID(Sheet2!B3,1,1) -> TCGTTC | H3: =_xlfn.CONCAT(Sheet2!$H$2,G3,Sheet2!$E$2,'RGR Generator'!B3,Sheet2!$F$2,Sheet2!$G$2,Sheet2!$I$2) -> AACTAGAGAAGACCTTGCCTCGTTCCTGATGAGTCCGTGAGGACGAAACGAGTAAGCTCGTC GAACGACTAGTTAGGCGTGTAGTTTTAGAGCTAGAAATAGCAAGTTAAAATAAGGCTAGTCCGTTATCAACTTGAAAA AGTGGCACCGAGTCGGTGCTTTT GGCCGGCATGGTCCCAGCCTCCTCGCTGGCGCCGGCTGGGCAACATGCTTCGG CATGGCGAATGGGAC GAGCTGGTCTTCAAACCA
E4: ='RGR Generator'!A4 -> PD-1 | F4: ='RGR Generator'!B4 -> GACACACGGCGCAATGACAG | G4: =MID(Sheet2!B4,6,1)&MID(Sheet2!B4,5,1)&MID(Sheet2!B4,4,1)&MID(Sheet2!B4,3,1)&MID(Sheet2!B4,2,1)&MID(Sheet2!B4,1,1) -> TGTGTC | H4: =_xlfn.CONCAT(Sheet2!$H$2,G4,Sheet2!$E$2,'RGR Generator'!B4,Sheet2!$F$2,Sheet2!$G$2,Sheet2!$I$2) -> AACTAGAGAAGACCTTGCCTGTGTCCTGATGAGTCCGTGAGGACGAAACGAGTAAGCTCGTC GACACACGGCGCAATGACAG GTTTTAGAGCTAGAAATAGCAAGTTAAAATAAGGCTAGTCCGTTATCAACTTGAAAA AGTGGCACCGAGTCGGTGCTTTT GGCCGGCATGGTCCCAGCCTCCTCGCTGGCGCCGGCTGGGCAACATGCTTCGG CATGGCGAATGGGAC GAGCTGGTCTTCAAACCA
E5: ='RGR Generator'!A5 -> 0 | F5: ='RGR Generator'!B5 -> 0 | G5: =MID(Sheet2!B5,6,1)&MID(Sheet2!B5,5,1)&MID(Sheet2!B5,4,1)&MID(Sheet2!B5,3,1)&MID(Sheet2!B5,2,1)&MID(Sheet2!B5,1,1) | H5: =_xlfn.CONCAT(Sheet2!$H$2,G5,Sheet2!$E$2,'RGR Generator'!B5,Sheet2!$F$2,Sheet2!$G$2,Sheet2!$I$2) -> AACTAGAGAAGACCTTGCCCTGATGAGTCCGTGAGGACGAAACGAGTAAGCTCGTC GTTTTAGAGCTAGAAATAGCAAGTTAAAATAAGGCTAGTCCGTTATCAACTTGAAAA AGTGGCACCGAGTCGGTGCTTTT GGCCGGCATGGTCCCAGCCTCCTCGCTGGCGCCGGCTGGGCAACATGCTTCGG CATGGCGAATGGGAC GAGCTGGTCTTCAAACCA
E6: ='RGR Generator'!A6 -> 0 | F6: ='RGR Generator'!B6 -> 0 | G6: =MID(Sheet2!B6,6,1)&MID(Sheet2!B6,5,1)&MID(Sheet2!B6,4,1)&MID(Sheet2!B6,3,1)&MID(Sheet2!B6,2,1)&MID(Sheet2!B6,1,1) | H6: =_xlfn.CONCAT(Sheet2!$H$2,G6,Sheet2!$E$2,'RGR Generator'!B6,Sheet2!$F$2,Sheet2!$G$2,Sheet2!$I$2) -> AACTAGAGAAGACCTTGCCCTGATGAGTCCGTGAGGACGAAACGAGTAAGCTCGTC GTTTTAGAGCTAGAAATAGCAAGTTAAAATAAGGCTAGTCCGTTATCAACTTGAAAA AGTGGCACCGAGTCGGTGCTTTT GGCCGGCATGGTCCCAGCCTCCTCGCTGGCGCCGGCTGGGCAACATGCTTCGG CATGGCGAATGGGAC GAGCTGGTCTTCAAACCA
E7: ='RGR Generator'!A7 -> 0 | F7: ='RGR Generator'!B7 -> 0 | H7: =_xlfn.CONCAT(Sheet2!$H$2,G7,Sheet2!$E$2,'RGR Generator'!B7,Sheet2!$F$2,Sheet2!$G$2,Sheet2!$I$2) -> AACTAGAGAAGACCTTGCCCTGATGAGTCCGTGAGGACGAAACGAGTAAGCTCGTC GTTTTAGAGCTAGAAATAGCAAGTTAAAATAAGGCTAGTCCGTTATCAACTTGAAAA AGTGGCACCGAGTCGGTGCTTTT GGCCGGCATGGTCCCAGCCTCCTCGCTGGCGCCGGCTGGGCAACATGCTTCGG CATGGCGAATGGGAC GAGCTGGTCTTCAAACCA

Sheet Sheet2
A1: First 6 bases | B1: Complement of first 6 bases | E1: HH Constant seq | F1: gRNA scaffold | G1: HDV | H1: BbsI Vector arm 1 | I1: BbsI Vector arm 2
A2: =MID('RGR Generator'!B2,1,6) -> GAACAA | B2: =SUBSTITUTE(SUBSTITUTE(SUBSTITUTE(SUBSTITUTE(SUBSTITUTE(SUBSTITUTE(SUBSTITUTE(SUBSTITUTE(A2,"A",1),"C",2),"G",3),"T",4),1,"T"),2,"G"),3,"C"),4,"A") -> CTTGTT | E2: CTGATGAGTCCGTGAGGACGAAACGAGTAAGCTCGTC | F2: GTTTTAGAGCTAGAAATAGCAAGTTAAAATAAGGCTAGTCCGTTATCAACTTGAAAA AGTGGCACCGAGTCGGTGCTTTT | G2: GGCCGGCATGGTCCCAGCCTCCTCGCTGGCGCCGGCTGGGCAACATGCTTCGG CATGGCGAATGGGAC | H2: AACTAGAGAAGACCTTGCC | I2: GAGCTGGTCTTCAAACCA
A3: =MID('RGR Generator'!B3,1,6) -> GAACGA | B3: =SUBSTITUTE(SUBSTITUTE(SUBSTITUTE(SUBSTITUTE(SUBSTITUTE(SUBSTITUTE(SUBSTITUTE(SUBSTITUTE(A3,"A",1),"C",2),"G",3),"T",4),1,"T"),2,"G"),3,"C"),4,"A") -> CTTGCT
A4: =MID('RGR Generator'!B4,1,6) -> GACACA | B4: =SUBSTITUTE(SUBSTITUTE(SUBSTITUTE(SUBSTITUTE(SUBSTITUTE(SUBSTITUTE(SUBSTITUTE(SUBSTITUTE(A4,"A",1),"C",2),"G",3),"T",4),1,"T"),2,"G"),3,"C"),4,"A") -> CTGTGT
A5: =MID('RGR Generator'!B5,1,6) | B5: =SUBSTITUTE(SUBSTITUTE(SUBSTITUTE(SUBSTITUTE(SUBSTITUTE(SUBSTITUTE(SUBSTITUTE(SUBSTITUTE(A5,"A",1),"C",2),"G",3),"T",4),1,"T"),2,"G"),3,"C"),4,"A")
A6: =MID('RGR Generator'!B6,1,6) | B6: =SUBSTITUTE(SUBSTITUTE(SUBSTITUTE(SUBSTITUTE(SUBSTITUTE(SUBSTITUTE(SUBSTITUTE(SUBSTITUTE(A6,"A",1),"C",2),"G",3),"T",4),1,"T"),2,"G"),3,"C"),4,"A")
A7: =MID('RGR Generator'!B7,1,6) | B7: =SUBSTITUTE(SUBSTITUTE(SUBSTITUTE(SUBSTITUTE(SUBSTITUTE(SUBSTITUTE(SUBSTITUTE(SUBSTITUTE(A7,"A",1),"C",2),"G",3),"T",4),1,"T"),2,"G"),3,"C"),4,"A")

Sheet Sheet3
A1: Gene | B1: RGR
A2: =Sheet1!E2 -> Tet2 | B2: =IF('RGR Generator'!B2>0,Sheet1!H2,"N/A") -> AACTAGAGAAGACCTTGCCTTGTTCCTGATGAGTCCGTGAGGACGAAACGAGTAAGCTCGTC GAACAAGCTCTACATCCCGTGTTTTAGAGCTAGAAATAGCAAGTTAAAATAAGGCTAGTCCGTTATCAACTTGAAAA AGTGGCACCGAGTCGGTGCTTTT GGCCGGCATGGTCCCAGCCTCCTCGCTGGCGCCGGCTGGGCAACATGCTTCGG CATGGCGAATGGGAC GAGCTGGTCTTCAAACCA
A3: =Sheet1!E3 -> Gal4 (NTC) | B3: =IF('RGR Generator'!B3>0,Sheet1!H3,"N/A") -> AACTAGAGAAGACCTTGCCTCGTTCCTGATGAGTCCGTGAGGACGAAACGAGTAAGCTCGTC GAACGACTAGTTAGGCGTGTAGTTTTAGAGCTAGAAATAGCAAGTTAAAATAAGGCTAGTCCGTTATCAACTTGAAAA AGTGGCACCGAGTCGGTGCTTTT GGCCGGCATGGTCCCAGCCTCCTCGCTGGCGCCGGCTGGGCAACATGCTTCGG CATGGCGAATGGGAC GAGCTGGTCTTCAAACCA
A4: =Sheet1!E4 -> PD-1 | B4: =IF('RGR Generator'!B4>0,Sheet1!H4,"N/A") -> AACTAGAGAAGACCTTGCCTGTGTCCTGATGAGTCCGTGAGGACGAAACGAGTAAGCTCGTC GACACACGGCGCAATGACAG GTTTTAGAGCTAGAAATAGCAAGTTAAAATAAGGCTAGTCCGTTATCAACTTGAAAA AGTGGCACCGAGTCGGTGCTTTT GGCCGGCATGGTCCCAGCCTCCTCGCTGGCGCCGGCTGGGCAACATGCTTCGG CATGGCGAATGGGAC GAGCTGGTCTTCAAACCA
A5: =Sheet1!E5 -> 0 | B5: =IF('RGR Generator'!B5>0,Sheet1!H5,"N/A") -> N/A
A6: =Sheet1!E6 -> 0 | B6: =IF('RGR Generator'!B6>0,Sheet1!H6,"N/A") -> N/A
A7: =Sheet1!E7 -> 0 | B7: =IF('RGR Generator'!B7>0,Sheet1!H7,"N/A") -> N/A
